BEGIN:VCALENDAR
VERSION:2.0
PRODID:-//Louisiana Democratic  Party - ECPv6.15.20//NONSGML v1.0//EN
CALSCALE:GREGORIAN
METHOD:PUBLISH
X-WR-CALNAME:Louisiana Democratic  Party
X-ORIGINAL-URL:https://louisianademocrats.org
X-WR-CALDESC:Events for Louisiana Democratic  Party
REFRESH-INTERVAL;VALUE=DURATION:PT1H
X-Robots-Tag:noindex
X-PUBLISHED-TTL:PT1H
BEGIN:VTIMEZONE
TZID:UTC
BEGIN:STANDARD
TZOFFSETFROM:+0000
TZOFFSETTO:+0000
TZNAME:UTC
DTSTART:20230101T000000
END:STANDARD
END:VTIMEZONE
BEGIN:VEVENT
DTSTART;VALUE=DATE:20241105
DTEND;VALUE=DATE:20241106
DTSTAMP:20260423T180557
CREATED:20240522T194741Z
LAST-MODIFIED:20240523T175452Z
UID:1945-1730764800-1730851199@louisianademocrats.org
SUMMARY:Open Primary/ Presidential/Congressional Election Day - November 5th
DESCRIPTION:Polls open from 6:00am – 8:oopm
URL:https://louisianademocrats.org/event/election-day/
ATTACH;FMTTYPE=image/png:https://louisianademocrats.org/wp-content/uploads/2024/05/Events-Background-Image-1.png
END:VEVENT
END:VCALENDAR