BEGIN:VCALENDAR
VERSION:2.0
PRODID:-//Louisiana Democratic  Party - ECPv6.15.20//NONSGML v1.0//EN
CALSCALE:GREGORIAN
METHOD:PUBLISH
X-WR-CALNAME:Louisiana Democratic  Party
X-ORIGINAL-URL:https://louisianademocrats.org
X-WR-CALDESC:Events for Louisiana Democratic  Party
REFRESH-INTERVAL;VALUE=DURATION:PT1H
X-Robots-Tag:noindex
X-PUBLISHED-TTL:PT1H
BEGIN:VTIMEZONE
TZID:UTC
BEGIN:STANDARD
TZOFFSETFROM:+0000
TZOFFSETTO:+0000
TZNAME:UTC
DTSTART:20230101T000000
END:STANDARD
END:VTIMEZONE
BEGIN:VEVENT
DTSTART;VALUE=DATE:20241116
DTEND;VALUE=DATE:20241117
DTSTAMP:20260423T175020
CREATED:20240523T172531Z
LAST-MODIFIED:20240523T175157Z
UID:1994-1731715200-1731801599@louisianademocrats.org
SUMMARY:Geaux Vote Online Registration Deadline - December 7th Election
DESCRIPTION:
URL:https://louisianademocrats.org/event/geaux-vote-online-registration-deadline-december-7/
ATTACH;FMTTYPE=image/png:https://louisianademocrats.org/wp-content/uploads/2024/05/Events-Background-Image-1.png
END:VEVENT
END:VCALENDAR