BEGIN:VCALENDAR
VERSION:2.0
PRODID:-//Louisiana Democratic  Party - ECPv6.15.20//NONSGML v1.0//EN
CALSCALE:GREGORIAN
METHOD:PUBLISH
X-WR-CALNAME:Louisiana Democratic  Party
X-ORIGINAL-URL:https://louisianademocrats.org
X-WR-CALDESC:Events for Louisiana Democratic  Party
REFRESH-INTERVAL;VALUE=DURATION:PT1H
X-Robots-Tag:noindex
X-PUBLISHED-TTL:PT1H
BEGIN:VTIMEZONE
TZID:UTC
BEGIN:STANDARD
TZOFFSETFROM:+0000
TZOFFSETTO:+0000
TZNAME:UTC
DTSTART:20230101T000000
END:STANDARD
END:VTIMEZONE
BEGIN:VEVENT
DTSTART;TZID=UTC:20241207T060000
DTEND;TZID=UTC:20241207T200000
DTSTAMP:20260423T180849
CREATED:20240523T171902Z
LAST-MODIFIED:20240523T175408Z
UID:1982-1733551200-1733601600@louisianademocrats.org
SUMMARY:Open General/Congressional Election Day - December 7th
DESCRIPTION:
URL:https://louisianademocrats.org/event/open-general-congressional-election-day/
ATTACH;FMTTYPE=image/png:https://louisianademocrats.org/wp-content/uploads/2024/05/Events-Background-Image-1.png
END:VEVENT
END:VCALENDAR