BEGIN:VCALENDAR
VERSION:2.0
PRODID:-//Louisiana Democratic  Party - ECPv6.15.20//NONSGML v1.0//EN
CALSCALE:GREGORIAN
METHOD:PUBLISH
X-WR-CALNAME:Louisiana Democratic  Party
X-ORIGINAL-URL:https://louisianademocrats.org
X-WR-CALDESC:Events for Louisiana Democratic  Party
REFRESH-INTERVAL;VALUE=DURATION:PT1H
X-Robots-Tag:noindex
X-PUBLISHED-TTL:PT1H
BEGIN:VTIMEZONE
TZID:UTC
BEGIN:STANDARD
TZOFFSETFROM:+0000
TZOFFSETTO:+0000
TZNAME:UTC
DTSTART:20230101T000000
END:STANDARD
END:VTIMEZONE
BEGIN:VEVENT
DTSTART;TZID=UTC:20241207T060000
DTEND;TZID=UTC:20241207T200000
DTSTAMP:20260423T162145
CREATED:20240523T171902Z
LAST-MODIFIED:20240523T175408Z
UID:1982-1733551200-1733601600@louisianademocrats.org
SUMMARY:Open General/Congressional Election Day - December 7th
DESCRIPTION:
URL:https://louisianademocrats.org/event/open-general-congressional-election-day/
ATTACH;FMTTYPE=image/png:https://louisianademocrats.org/wp-content/uploads/2024/05/Events-Background-Image-1.png
END:VEVENT
BEGIN:VEVENT
DTSTART;VALUE=DATE:20241122
DTEND;VALUE=DATE:20241201
DTSTAMP:20260423T162145
CREATED:20240523T172918Z
LAST-MODIFIED:20240523T175102Z
UID:1998-1732233600-1733011199@louisianademocrats.org
SUMMARY:Early Voting - December 7th Election
DESCRIPTION:
URL:https://louisianademocrats.org/event/early-voting-december-7/
ATTACH;FMTTYPE=image/png:https://louisianademocrats.org/wp-content/uploads/2024/05/Events-Background-Image-1.png
END:VEVENT
BEGIN:VEVENT
DTSTART;VALUE=DATE:20241116
DTEND;VALUE=DATE:20241117
DTSTAMP:20260423T162145
CREATED:20240523T172531Z
LAST-MODIFIED:20240523T175157Z
UID:1994-1731715200-1731801599@louisianademocrats.org
SUMMARY:Geaux Vote Online Registration Deadline - December 7th Election
DESCRIPTION:
URL:https://louisianademocrats.org/event/geaux-vote-online-registration-deadline-december-7/
ATTACH;FMTTYPE=image/png:https://louisianademocrats.org/wp-content/uploads/2024/05/Events-Background-Image-1.png
END:VEVENT
BEGIN:VEVENT
DTSTART;VALUE=DATE:20241106
DTEND;VALUE=DATE:20241107
DTSTAMP:20260423T162145
CREATED:20240523T172332Z
LAST-MODIFIED:20240523T175304Z
UID:1988-1730851200-1730937599@louisianademocrats.org
SUMMARY:In Person/By Mail Registration Deadline - December 7th Election
DESCRIPTION:
URL:https://louisianademocrats.org/event/in-person-by-mail-registration-deadline-december-7/
ATTACH;FMTTYPE=image/png:https://louisianademocrats.org/wp-content/uploads/2024/05/Events-Background-Image-1.png
END:VEVENT
BEGIN:VEVENT
DTSTART;VALUE=DATE:20241105
DTEND;VALUE=DATE:20241106
DTSTAMP:20260423T162145
CREATED:20240522T194741Z
LAST-MODIFIED:20240523T175452Z
UID:1945-1730764800-1730851199@louisianademocrats.org
SUMMARY:Open Primary/ Presidential/Congressional Election Day - November 5th
DESCRIPTION:Polls open from 6:00am – 8:oopm
URL:https://louisianademocrats.org/event/election-day/
ATTACH;FMTTYPE=image/png:https://louisianademocrats.org/wp-content/uploads/2024/05/Events-Background-Image-1.png
END:VEVENT
BEGIN:VEVENT
DTSTART;VALUE=DATE:20241018
DTEND;VALUE=DATE:20241030
DTSTAMP:20260423T162145
CREATED:20240523T172705Z
LAST-MODIFIED:20240523T175126Z
UID:1996-1729209600-1730246399@louisianademocrats.org
SUMMARY:Early Voting - November 5th Election
DESCRIPTION:
URL:https://louisianademocrats.org/event/early-voting-november-5/
ATTACH;FMTTYPE=image/png:https://louisianademocrats.org/wp-content/uploads/2024/05/Events-Background-Image-1.png
END:VEVENT
BEGIN:VEVENT
DTSTART;VALUE=DATE:20241015
DTEND;VALUE=DATE:20241016
DTSTAMP:20260423T162145
CREATED:20240523T172446Z
LAST-MODIFIED:20240523T175222Z
UID:1992-1728950400-1729036799@louisianademocrats.org
SUMMARY:Geaux Vote Online Registration Deadline - November 5th Election
DESCRIPTION:
URL:https://louisianademocrats.org/event/geaux-vote-online-registration-deadline-november-5/
ATTACH;FMTTYPE=image/png:https://louisianademocrats.org/wp-content/uploads/2024/05/Events-Background-Image-1.png
END:VEVENT
BEGIN:VEVENT
DTSTART;VALUE=DATE:20241007
DTEND;VALUE=DATE:20241008
DTSTAMP:20260423T162145
CREATED:20240523T172243Z
LAST-MODIFIED:20240523T175555Z
UID:1986-1728259200-1728345599@louisianademocrats.org
SUMMARY:In Person/By Mail Registration Deadline - November 5th Election
DESCRIPTION:
URL:https://louisianademocrats.org/event/in-person-by-mail-registration-deadline-november-5th-election/
ATTACH;FMTTYPE=image/png:https://louisianademocrats.org/wp-content/uploads/2024/05/Events-Background-Image-1.png
END:VEVENT
BEGIN:VEVENT
DTSTART;TZID=UTC:20240717T080000
DTEND;TZID=UTC:20240719T170000
DTSTAMP:20260423T162145
CREATED:20240523T172104Z
LAST-MODIFIED:20240523T175340Z
UID:1984-1721203200-1721408400@louisianademocrats.org
SUMMARY:Candidate Qualifying for November 5th Election
DESCRIPTION:
URL:https://louisianademocrats.org/event/candidate-qualifying-for-november-5th-election/
ATTACH;FMTTYPE=image/png:https://louisianademocrats.org/wp-content/uploads/2024/05/Events-Background-Image-1.png
END:VEVENT
BEGIN:VEVENT
DTSTART;TZID=UTC:20240608T120000
DTEND;TZID=UTC:20240608T160000
DTSTAMP:20260423T162145
CREATED:20240523T192134Z
LAST-MODIFIED:20240523T192150Z
UID:2011-1717848000-1717862400@louisianademocrats.org
SUMMARY:DSCC Meeting - Delegate Election
DESCRIPTION:
URL:https://louisianademocrats.org/event/dscc-meeting-delegate-election/
ATTACH;FMTTYPE=image/png:https://louisianademocrats.org/wp-content/uploads/2024/05/Events-Background-Image-1.png
END:VEVENT
BEGIN:VEVENT
DTSTART;TZID=UTC:20240605T073000
DTEND;TZID=UTC:20240605T090000
DTSTAMP:20260423T162145
CREATED:20240523T171342Z
LAST-MODIFIED:20240523T171342Z
UID:1980-1717572600-1717578000@louisianademocrats.org
SUMMARY:Coffee with Clergy & Community
DESCRIPTION:
URL:https://louisianademocrats.org/event/coffee-with-clergy-community-2/
LOCATION:Ruston\, 2001 N Trenton St\, Ruston\, LA\, 71270\, United States
ATTACH;FMTTYPE=image/png:https://louisianademocrats.org/wp-content/uploads/2024/02/Untitled-design.png
END:VEVENT
BEGIN:VEVENT
DTSTART;TZID=UTC:20240604T173000
DTEND;TZID=UTC:20240604T190000
DTSTAMP:20260423T162145
CREATED:20240524T003249Z
LAST-MODIFIED:20240524T003519Z
UID:2014-1717522200-1717527600@louisianademocrats.org
SUMMARY:Destinations with Dems
DESCRIPTION:
URL:https://louisianademocrats.org/event/destinations-with-dems/
LOCATION:St. Joseph\, 139 Plank Rd\, St. Joseph\, 71366\, United States
ATTACH;FMTTYPE=image/png:https://louisianademocrats.org/wp-content/uploads/2024/05/Destination-with-Dems-Background.png
END:VEVENT
BEGIN:VEVENT
DTSTART;TZID=UTC:20240601T073000
DTEND;TZID=UTC:20240601T090000
DTSTAMP:20260423T162145
CREATED:20240523T171147Z
LAST-MODIFIED:20240523T171147Z
UID:1974-1717227000-1717232400@louisianademocrats.org
SUMMARY:Coffee with Clergy & Community
DESCRIPTION:
URL:https://louisianademocrats.org/event/coffee-with-clergy-community-7/
LOCATION:Leesville\, 200 Nona Street\, Leesville\, LA\, 71446\, United States
ATTACH;FMTTYPE=image/png:https://louisianademocrats.org/wp-content/uploads/2024/02/Untitled-design.png
END:VEVENT
BEGIN:VEVENT
DTSTART;TZID=UTC:20240325T073000
DTEND;TZID=UTC:20240325T090000
DTSTAMP:20260423T162145
CREATED:20240204T030416Z
LAST-MODIFIED:20240223T005839Z
UID:1701-1711351800-1711357200@louisianademocrats.org
SUMMARY:Coffee with Clergy & Community
DESCRIPTION:
URL:https://louisianademocrats.org/event/coffee-with-clergy-community-6/
LOCATION:Baton Rouge\, 701 Government Street\, Baton Rouge\, 70802\, United States
ATTACH;FMTTYPE=image/png:https://louisianademocrats.org/wp-content/uploads/2024/02/Untitled-design.png
END:VEVENT
BEGIN:VEVENT
DTSTART;TZID=UTC:20240318T073000
DTEND;TZID=UTC:20240318T090000
DTSTAMP:20260423T162145
CREATED:20240204T030200Z
LAST-MODIFIED:20240223T005810Z
UID:1700-1710747000-1710752400@louisianademocrats.org
SUMMARY:Coffee with Clergy & Community
DESCRIPTION:
URL:https://louisianademocrats.org/event/coffee-with-clergy-community-5/
LOCATION:Alexandria\, 2830 South MacArthur Drive\, Alexandria\, 71303\, United States
ATTACH;FMTTYPE=image/png:https://louisianademocrats.org/wp-content/uploads/2024/02/Untitled-design.png
END:VEVENT
BEGIN:VEVENT
DTSTART;TZID=UTC:20240311T073000
DTEND;TZID=UTC:20240311T090000
DTSTAMP:20260423T162145
CREATED:20240204T025830Z
LAST-MODIFIED:20240223T005747Z
UID:1699-1710142200-1710147600@louisianademocrats.org
SUMMARY:Coffee with Clergy & Community
DESCRIPTION:
URL:https://louisianademocrats.org/event/coffee-with-clergy-community-4/
LOCATION:Slidell\, 1501 Gause Blvd.\, Slidell\, 70458\, United States
ATTACH;FMTTYPE=image/png:https://louisianademocrats.org/wp-content/uploads/2024/02/Untitled-design.png
END:VEVENT
BEGIN:VEVENT
DTSTART;TZID=UTC:20240226T073000
DTEND;TZID=UTC:20240226T090000
DTSTAMP:20260423T162145
CREATED:20240203T015820Z
LAST-MODIFIED:20240223T005658Z
UID:1678-1708932600-1708938000@louisianademocrats.org
SUMMARY:Coffee with Clergy & Community
DESCRIPTION:
URL:https://louisianademocrats.org/event/coffee-with-clergy-community/
LOCATION:1717 Imerial Blvd.\, 1717 Imperial Blvd.\, Lake Charles\, LA\, 70605\, United States
ATTACH;FMTTYPE=image/png:https://louisianademocrats.org/wp-content/uploads/2024/02/Untitled-design.png
END:VEVENT
BEGIN:VEVENT
DTSTART;TZID=UTC:20240219T073000
DTEND;TZID=UTC:20240219T090000
DTSTAMP:20260423T162145
CREATED:20240204T025401Z
LAST-MODIFIED:20240223T005722Z
UID:1698-1708327800-1708333200@louisianademocrats.org
SUMMARY:Coffee with Clergy & Community
DESCRIPTION:
URL:https://louisianademocrats.org/event/coffee-with-clergy-community-3/
LOCATION:Lafayette\, 1606 West Pinhook\, Lafayette\, 70506\, United States
ATTACH;FMTTYPE=image/png:https://louisianademocrats.org/wp-content/uploads/2024/02/Untitled-design.png
END:VEVENT
END:VCALENDAR